BEGIN:VCALENDAR
VERSION:2.0
PRODID:-//lighting-design.bitkit.dk//NONSGML Lighting Design & Technology Expo//EN
METHOD:REQUEST
BEGIN:VEVENT
UID:20260424T015027-1654152460-calendar_event
DTSTAMP:20260424T015027Z
DTSTART:20220906T160000
DTEND:20220908T220000
LOCATION:Riyadh International Convention & Exhibition Center
SUMMARY:Lighting Design & Technology Expo
DESCRIPTION:6 - 8 SEPTEMBER 2022 | Riyadh International Convention & Exhibition Center | Lighting Design & Technology Expo connects lighting designers, consultants, engineers and architects with global lighting solution providers. Attend the show to explore a wide range of products, discover trends in lighting and discuss upcoming projects in Saudi Arabia. See you at the show!
BEGIN:VALARM
TRIGGER:PT1W
ACTION:DISPLAY
DESCRIPTION:Reminder
END:VALARM
END:VEVENT
END:VCALENDAR
